BEGIN:VCALENDAR
VERSION:2.0
PRODID:-//Contratero//ES
CALSCALE:GREGORIAN
METHOD:PUBLISH
BEGIN:VEVENT
UID:PN sin publicidad 12099/2023@contratero.es
DTSTAMP:20260422T054112Z
DTSTART:20231205T235959
DTEND:20231206T005959
SUMMARY:Cierre: Mantenimiento\, gestión de incidencias y consultas 
DESCRIPTION:Mantenimiento\, gestión de incidencias y consultas de la plataforma existente en este Ayto.\, Línea Verde\, a través de la aplicación móvil Live Gestión\\n\\nOrganismo: Alcaldía del Ayuntamiento de Aljaraque\\n\\nVer en Contratero: https://contratero.es/contracts/PN sin publicidad 12099/2023
URL:https://contratero.es/contracts/PN sin publicidad 12099/2023
STATUS:CONFIRMED
BEGIN:VALARM
TRIGGER:-P1D
ACTION:DISPLAY
DESCRIPTION:Recordatorio: Mantenimiento\, gestión de inci
END:VALARM
END:VEVENT
END:VCALENDAR